BEGIN:VCALENDAR
VERSION:2.0
PRODID:-//jEvents 2.0 for Joomla//EN
CALSCALE:GREGORIAN
METHOD:PUBLISH
BEGIN:VTIMEZONE
TZID:Europe/Amsterdam
BEGIN:STANDARD
DTSTART:20251026T020000
RDATE:20260329T030000
TZOFFSETFROM:+0200
TZOFFSETTO:+0100
TZNAME:Europe/Amsterdam CET
END:STANDARD
BEGIN:STANDARD
DTSTART:20261025T020000
RDATE:20270328T030000
TZOFFSETFROM:+0200
TZOFFSETTO:+0100
TZNAME:Europe/Amsterdam CET
END:STANDARD
BEGIN:STANDARD
DTSTART:20271031T020000
RDATE:20280326T030000
TZOFFSETFROM:+0200
TZOFFSETTO:+0100
TZNAME:Europe/Amsterdam CET
END:STANDARD
BEGIN:DAYLIGHT
DTSTART:20250515T100000
RDATE:20251026T020000
TZOFFSETFROM:+0100
TZOFFSETTO:+0200
TZNAME:Europe/Amsterdam CEST
END:DAYLIGHT
BEGIN:DAYLIGHT
DTSTART:20260329T030000
RDATE:20261025T020000
TZOFFSETFROM:+0100
TZOFFSETTO:+0200
TZNAME:Europe/Amsterdam CEST
END:DAYLIGHT
BEGIN:DAYLIGHT
DTSTART:20270328T030000
RDATE:20271031T020000
TZOFFSETFROM:+0100
TZOFFSETTO:+0200
TZNAME:Europe/Amsterdam CEST
END:DAYLIGHT
END:VTIMEZONE
BEGIN:VEVENT
UID:28de2f0d7499529a45d4ae324b5f65c9
CATEGORIES:Bevers
CREATED:20251206T151135
SUMMARY:Bever Doe Dag
DESCRIPTION;ENCODING=QUOTED-PRINTABLE:
X-EXTRAINFO:Regioactiviteit
DTSTAMP:20260421T201854Z
DTSTART;TZID=Europe/Amsterdam:20260516T100000
DTEND;TZID=Europe/Amsterdam:20260516T140000
SEQUENCE:0
TRANSP:OPAQUE
END:VEVENT
END:VCALENDAR